BEGIN:VCALENDAR
VERSION:2.0
PRODID:-//Smyrna Opera House - ECPv6.15.20//NONSGML v1.0//EN
CALSCALE:GREGORIAN
METHOD:PUBLISH
X-WR-CALNAME:Smyrna Opera House
X-ORIGINAL-URL:https://smyrnaoperahouse.org
X-WR-CALDESC:Events for Smyrna Opera House
REFRESH-INTERVAL;VALUE=DURATION:PT1H
X-Robots-Tag:noindex
X-PUBLISHED-TTL:PT1H
BEGIN:VTIMEZONE
TZID:America/New_York
BEGIN:DAYLIGHT
TZOFFSETFROM:-0500
TZOFFSETTO:-0400
TZNAME:EDT
DTSTART:20250309T070000
END:DAYLIGHT
BEGIN:STANDARD
TZOFFSETFROM:-0400
TZOFFSETTO:-0500
TZNAME:EST
DTSTART:20251102T060000
END:STANDARD
BEGIN:DAYLIGHT
TZOFFSETFROM:-0500
TZOFFSETTO:-0400
TZNAME:EDT
DTSTART:20260308T070000
END:DAYLIGHT
BEGIN:STANDARD
TZOFFSETFROM:-0400
TZOFFSETTO:-0500
TZNAME:EST
DTSTART:20261101T060000
END:STANDARD
BEGIN:DAYLIGHT
TZOFFSETFROM:-0500
TZOFFSETTO:-0400
TZNAME:EDT
DTSTART:20270314T070000
END:DAYLIGHT
BEGIN:STANDARD
TZOFFSETFROM:-0400
TZOFFSETTO:-0500
TZNAME:EST
DTSTART:20271107T060000
END:STANDARD
END:VTIMEZONE
BEGIN:VEVENT
DTSTART;TZID=America/New_York:20260501T193000
DTEND;TZID=America/New_York:20260501T210000
DTSTAMP:20260423T045018
CREATED:20260220T180656Z
LAST-MODIFIED:20260220T191101Z
UID:1107-1777663800-1777669200@smyrnaoperahouse.org
SUMMARY:An Evening With Queen
DESCRIPTION:Sit back and enjoy your favorite songs by John\, Roger\, Brian\, and Freddie! Dance the night away to Crazy Little Thing Called Love and Radio Ga Ga! Then strap in to listen to favorites from arguably the greatest rock album ever\, A Night at the Opera\, including You’re My Best Friend and Bohemian Rhapsody. This is a show for Queen fans of all ages!\n\n\nJustin Gonzalez (former lead singer of 33 1/3 LIVE’s Killer Queen Experience) knew from a very young age that the stage would be something extraordinary in his life. Growing up a poor kid from The City of Brotherly Love\, he didn’t know that he had a seat at the table. \nToday\, Justin performs a diverse repertoire of music spanning Jazz\, the American Songbook\, the music of Freddie Mercury and Queen\, Broadway\, and favorites from the classical and operatic stage. Justin has performed with some of the best classical and popular music acts in venues such as Carnegie Hall\, Madison Square Garden\, the Academy of Music in Philadelphia\, the Legendary Birchmere\, the Margravial Opera House in Bayreuth\, Germany\, and the Cathedral Notre Dame in Paris.    \n\n\nTickets \n$35 VIP | $30 Balcony | $25 General \nDoors open 45 minutes prior to performance \n*Does not include convenience or handling fees* \nNo refunds or exchanges \n    \n        \n            Buy Tickets
URL:https://smyrnaoperahouse.org/event/an-evening-with-queen/
LOCATION:The B. Stimson Carrow Auditorium\, The Smyrna Opera House\, Smyrna\, DE\, 19977\, United States
ATTACH;FMTTYPE=image/png:https://smyrnaoperahouse.org/wp-content/uploads/2026/02/Queenjukebox.png
END:VEVENT
BEGIN:VEVENT
DTSTART;TZID=America/New_York:20260502T130000
DTEND;TZID=America/New_York:20260502T150000
DTSTAMP:20260423T045018
CREATED:20260220T184946Z
LAST-MODIFIED:20260220T191114Z
UID:1133-1777726800-1777734000@smyrnaoperahouse.org
SUMMARY:Readings and Luncheon with Jane Austen
DESCRIPTION:Celebrating the 250th birthday of Jane Austen\, The Smyrna Opera House will host Readings and Luncheon with Jane Austen. Luncheon guests will listen to readings from four of Jane Austen’s works and hear live piano music the author might have chosen to play herself. The event will commemorate the 250th Anniversary of the author’s birth.\n\nPlaywright Carol Child is the author of books\, newspaper and magazine stories and a Substack publication.  Her book\, Jane Austen Readings for Readers Theater is available on Amazon.\n\nGuests are invited to arrive in Regency era dress\, if they wish. Table reservations may be made for groups with 6-8 individuals. Please call the box office to reserve a table.\n\n\n\nTickets \n$30 General Admission \nDoors open 45 minutes prior to show \n*Does not include convenience or handling fees* \nNo refunds or exchanges \n    \n        \n            Buy Tickets
URL:https://smyrnaoperahouse.org/event/readings-and-luncheon-with-jane-austen/
LOCATION:The B. Stimson Carrow Auditorium\, The Smyrna Opera House\, Smyrna\, DE\, 19977\, United States
ATTACH;FMTTYPE=image/jpeg:https://smyrnaoperahouse.org/wp-content/uploads/2026/02/SOH-Facebook-Posts-32.jpg
END:VEVENT
BEGIN:VEVENT
DTSTART;TZID=America/New_York:20260509T193000
DTEND;TZID=America/New_York:20260509T213000
DTSTAMP:20260423T045018
CREATED:20260220T181339Z
LAST-MODIFIED:20260220T191128Z
UID:1110-1778355000-1778362200@smyrnaoperahouse.org
SUMMARY:The Jersey Tenors
DESCRIPTION:The Jersey Tenors are the newest Opera/Rock Mash-up sensation\, creating an explosive blend of iconic Opera classics alongside Rock ‘N Roll greats like Queen\, Elton John\, and Bon Jovi – to name but a few.\nBut! We are also Jersey Proud — and we do not forget where we came from\, so we highlight some of Jersey’s finest like Frankie Valli and The Four Seasons\, Frank Sinatra\, Bruce Springsteen\, Kool and The Gang\, and even Jersey Girl Whitney Houston!\nWhether it’s a theatrical production\, corporate entertainment event\, private event\, party entertainment\, or an outdoor concert…these four charming wise guys will raise the roof with their powerful voices…and you’ll be singing along before yous guys know it.\n\n﻿﻿﻿﻿ \n\nTickets \n$37 VIP | $34 Balcony | $28 General Admission \nDoors open 45 minutes prior to show \n*Does not include convenience or handling fees* \nNo refunds or exchanges \n    \n        \n            Buy Tickets
URL:https://smyrnaoperahouse.org/event/the-jersey-tenors-2/
LOCATION:The B. Stimson Carrow Auditorium\, The Smyrna Opera House\, Smyrna\, DE\, 19977\, United States
ATTACH;FMTTYPE=image/jpeg:https://smyrnaoperahouse.org/wp-content/uploads/2026/02/Jersey-Tenors.jpeg
END:VEVENT
BEGIN:VEVENT
DTSTART;TZID=America/New_York:20260515T190000
DTEND;TZID=America/New_York:20260515T210000
DTSTAMP:20260423T045018
CREATED:20260408T151425Z
LAST-MODIFIED:20260408T170853Z
UID:1188-1778871600-1778878800@smyrnaoperahouse.org
SUMMARY:The Brandywiners Chorale
DESCRIPTION:Come experience the power of singing with our 60+ member choir\, performing a vibrant mix of popular music and musical theatre favorites perfect for all ages.\n\nThe Chorale offers a broad range of Broadway\, contemporary\, folk\, and seasonal music with a new program each season. Our concerts always include a medley of songs from the Broadway show to be performed at Longwood Gardens in the upcoming summer. It’s an introduction that whets the appetite of the audience to attend the summer show. We often liven up some songs with dance and/or added accompaniment on keyboard\, bells\, bongos\, drums\, and other instruments played by members of the chorale.\n\n﻿﻿﻿﻿﻿﻿ \n\nTickets \n$20 General Admission |  $17 Member | $10 Child \nDoors open 45 minutes prior to show \n*Does not include convenience or handling fees* \nNo refunds or exchanges \n    \n        \n            Buy Tickets
URL:https://smyrnaoperahouse.org/event/the-brandywiners-chorale/
LOCATION:The B. Stimson Carrow Auditorium\, The Smyrna Opera House\, Smyrna\, DE\, 19977\, United States
ATTACH;FMTTYPE=image/jpeg:https://smyrnaoperahouse.org/wp-content/uploads/2026/04/SOH-Facebook-Posts-40.jpg
END:VEVENT
BEGIN:VEVENT
DTSTART;TZID=America/New_York:20260516T193000
DTEND;TZID=America/New_York:20260516T213000
DTSTAMP:20260423T045018
CREATED:20260220T182025Z
LAST-MODIFIED:20260220T191144Z
UID:1113-1778959800-1778967000@smyrnaoperahouse.org
SUMMARY:Country Live
DESCRIPTION:CountryLIVE is a one-of-a-kind tribute to four icons of modern country music. Imagine a show with Kenny Chesney\, Shania Twain\, Keith Urban and Luke Bryan all on the same stage performing their MANY hits together in one smashing performance! Country Live! travels with production support and full multi-media. Add the many wardrobe changes and this tribute is a show for the eyes as well as the ears. Your patrons will hear a night of hits\, including: Kenny Chesney: Summertime – American Kids – Keg In The Closet\, Shania Twain: You’re Still The One – Man! I Feel Like A Woman – That Don’t Impress Me Much\, Keith Urban: John Cougar\, John Deere\, John 316 – Somewhere In My Car – Somebody Like You\,  Luke Bryan: I Don’t Want This Night To End – That’s My Kind Of Night – Country Girl! That is just a sample of the night of hits delivered by Country Live! With four tributes in one\, there is something for every Country fan.\n\n﻿﻿﻿﻿﻿ \n\nTickets \n$40 VIP | $37 Balcony | $30 General Admission \nDoors open 45 minutes prior to show \n*Does not include convenience or handling fees* \nNo refunds or exchanges \n    \n        \n            Buy Tickets
URL:https://smyrnaoperahouse.org/event/country-live/
LOCATION:The B. Stimson Carrow Auditorium\, The Smyrna Opera House\, Smyrna\, DE\, 19977\, United States
ATTACH;FMTTYPE=image/jpeg:https://smyrnaoperahouse.org/wp-content/uploads/2026/02/Country-live.jpg
END:VEVENT
BEGIN:VEVENT
DTSTART;TZID=America/New_York:20260520T113000
DTEND;TZID=America/New_York:20260520T140000
DTSTAMP:20260423T045018
CREATED:20260105T163922Z
LAST-MODIFIED:20260319T183520Z
UID:1069-1779276600-1779285600@smyrnaoperahouse.org
SUMMARY:Musical Memories Café (MMC) – A Special Experience for Caregivers
DESCRIPTION:Musical Memories Café (MMC) – A Special Experience for Caregivers\nWhen you’re caring for someone you love\, there are good days and bad days. Whatever the day brings\, you should know that there is help available to you. Musical Memories Café (MMC) is a joyful and compassionate gathering where caregivers and their loved ones (care recipients) can relax\, connect\, and share meaningful moments through the power of music. Enjoy a welcoming space with live professional entertainment\, a shared meal\, and the opportunity to build a supportive community with others who understand your journey. \nMMC gathers every 3rd Wednesday\, 11:30 AM – 2:00 PM. \nRegistration for both the caregiver and care recipient is required. Secure your spot today and experience the healing magic of music together! Estimated program time is 90 minutes. \nThis program is supported by the Administration for Community Living (ACL) funds and is open to: \n✔️ Adult caregivers (18+) providing care to individuals 60+ \n✔️ Adult caregivers (18+) supporting individuals of any age with Alzheimer’s Disease or related dementias (ADRD) \nCare recipients must live in Delaware. \nEVENT DATE: May 20th\, 2026 at 11:30am (11:00am doors) \nLOCATION: Smyrna Opera House\, 7 West South St. Smyrna DE 19977 \n    \n        \n            RSVP Here
URL:https://smyrnaoperahouse.org/event/musical-memories-cafe-mmc-a-special-experience-for-caregivers-8/
LOCATION:The B. Stimson Carrow Auditorium\, The Smyrna Opera House\, Smyrna\, DE\, 19977\, United States
ATTACH;FMTTYPE=image/jpeg:https://smyrnaoperahouse.org/wp-content/uploads/2026/01/SURROUND-SOUND-EXPERIENCE-1.jpg
END:VEVENT
BEGIN:VEVENT
DTSTART;TZID=America/New_York:20260523T193000
DTEND;TZID=America/New_York:20260523T213000
DTSTAMP:20260423T045018
CREATED:20260220T182559Z
LAST-MODIFIED:20260220T191203Z
UID:1116-1779564600-1779571800@smyrnaoperahouse.org
SUMMARY:B Street Band
DESCRIPTION:From the heart of the Jersey Shore\, “Backstreets” was the first band in the world to do a unique tribute to a live performer.  There are now an estimated 14\,000 tribute bands following their lead and performing all over the world.  Nearly 5\,500 performances and 34 years later\, the B-Street Band is still the hardest working tribute band on the circuit\, with almost 200 shows per year throughout the country.\n\nNotable performances include opening for Bruce outside at the Philadelphia Spectrum for the final 4 shows of the historic arena. Additionally\, The B-Street Band performed before Bruce shows at Wachovia\, MetLife Stadium\, Prudential Center\, and the newly constructed Comcast Xfinity Center at Citizens Bank Park.\n\nThe band was proud to accept an invitation from the Rock and Roll Hall of Fame “Life and Music of Bruce Springsteen” exhibition at the Constitutional Center in Philadelphia. They were featured during the opening\, middle and closing nights—a real honor for any tribute band.\n\n\n﻿﻿﻿﻿﻿﻿ \n\nTickets \n$37 VIP | $34 Balcony | $28 General Admission \nDoors open 45 minutes prior to show \n*Does not include convenience or handling fees* \nNo refunds or exchanges \n    \n        \n            Buy Tickets
URL:https://smyrnaoperahouse.org/event/b-street-band/
LOCATION:The B. Stimson Carrow Auditorium\, The Smyrna Opera House\, Smyrna\, DE\, 19977\, United States
ATTACH;FMTTYPE=image/jpeg:https://smyrnaoperahouse.org/wp-content/uploads/2026/02/Bstreet.jpg
END:VEVENT
BEGIN:VEVENT
DTSTART;TZID=America/New_York:20260530T193000
DTEND;TZID=America/New_York:20260530T213000
DTSTAMP:20260423T045018
CREATED:20260220T183054Z
LAST-MODIFIED:20260220T191258Z
UID:1119-1780169400-1780176600@smyrnaoperahouse.org
SUMMARY:Four Sticks
DESCRIPTION:There is no rock and roll enthusiast who has not been touched in some way by the epic catalogue of the mighty Led Zeppelin. From the initial crushing chords of “Good Times\, Bad Times” on Led Zeppelin I (1969) to the slick\, piano heavy “Fool In The Rain” (1980) that featured one of John Bonham’s most iconic drum grooves. If you are looking for a Led Zeppelin act that brings the energy and spirit of Led Zeppelin in their prime\, then look no further than FOUR STICKS\, the most accurate tribute to the iconic Led Zeppelin.\n\nLed Zeppelin\, led by guitar virtuoso\, Jimmy Page and vocal icon\, Robert Plant\, never failed to push their songwriting to the limit of astounding creativity\, with live performances that were second to none\, with each member putting on a clinic and delivering their songs with fresh energy at each and every performance. The songs maintained their album quality while simultaneously being given new life and energy by the live improvisation abilities or these four powerhouses. FOUR STICKS is comprised of NYC session and touring musicians who have graced the stages with some of the biggest names in the business\, as well as being on numerous smash hits with musicians in multiple genres.\n\n﻿﻿﻿﻿﻿﻿ \n\nTickets \n$37 VIP | $34 Balcony | $28 General Admission \nDoors open 45 minutes prior to show \n*Does not include convenience or handling fees* \nNo refunds or exchanges \n    \n        \n            Buy Tickets
URL:https://smyrnaoperahouse.org/event/four-sticks/
LOCATION:The B. Stimson Carrow Auditorium\, The Smyrna Opera House\, Smyrna\, DE\, 19977\, United States
ATTACH;FMTTYPE=image/jpeg:https://smyrnaoperahouse.org/wp-content/uploads/2026/02/Four-Sticks.jpg
END:VEVENT
END:VCALENDAR