BEGIN:VCALENDAR
VERSION:2.0
PRODID:-//Smyrna Opera House - ECPv6.15.20//NONSGML v1.0//EN
CALSCALE:GREGORIAN
METHOD:PUBLISH
X-WR-CALNAME:Smyrna Opera House
X-ORIGINAL-URL:https://smyrnaoperahouse.org
X-WR-CALDESC:Events for Smyrna Opera House
REFRESH-INTERVAL;VALUE=DURATION:PT1H
X-Robots-Tag:noindex
X-PUBLISHED-TTL:PT1H
BEGIN:VTIMEZONE
TZID:America/New_York
BEGIN:DAYLIGHT
TZOFFSETFROM:-0500
TZOFFSETTO:-0400
TZNAME:EDT
DTSTART:20240310T070000
END:DAYLIGHT
BEGIN:STANDARD
TZOFFSETFROM:-0400
TZOFFSETTO:-0500
TZNAME:EST
DTSTART:20241103T060000
END:STANDARD
BEGIN:DAYLIGHT
TZOFFSETFROM:-0500
TZOFFSETTO:-0400
TZNAME:EDT
DTSTART:20250309T070000
END:DAYLIGHT
BEGIN:STANDARD
TZOFFSETFROM:-0400
TZOFFSETTO:-0500
TZNAME:EST
DTSTART:20251102T060000
END:STANDARD
BEGIN:DAYLIGHT
TZOFFSETFROM:-0500
TZOFFSETTO:-0400
TZNAME:EDT
DTSTART:20260308T070000
END:DAYLIGHT
BEGIN:STANDARD
TZOFFSETFROM:-0400
TZOFFSETTO:-0500
TZNAME:EST
DTSTART:20261101T060000
END:STANDARD
END:VTIMEZONE
BEGIN:VEVENT
DTSTART;TZID=America/New_York:20251016T100000
DTEND;TZID=America/New_York:20251114T150000
DTSTAMP:20260423T192340
CREATED:20250919T160742Z
LAST-MODIFIED:20251015T150511Z
UID:911-1760608800-1763132400@smyrnaoperahouse.org
SUMMARY:"The Sky's The Limit" Art Exhibition
DESCRIPTION:The Smyrna Opera House is proud to invite local artists to showcase their work in our gallery on the third floor. Art enjoyers may see the artwork on display during business hours (Tuesday-Friday at 10am-3pm) starting October 16th- November 14th. Extended hours will take place every Thursday at 10am-7pm. \nPatrons are invited to join us on October 16th at 6pm for an opening reception. There will be a bar\, food\, musical ambience\, and artists available to speak with. This event is free to attend and the dress code is casually elegant. \nParticipating Artists \nCindy Lee Beyer\, Brittany M. Coleman\, Davina Manasseh-Colston\, Denise Van Deroef\, Shilpi Gupta\, T. A. Hahn\, David Hollander\, Sharon O’Brien-Huey\, Janice Edelman-Lee\, Larry Lee\, Donna Lewis\, Christopher M. Kraus\, Joyce Elaine Lapp\, Dave Magyar\, Tracey L. Nadal\, Rosetta Roach\, Maria Ruffin\, Rob Sample\, Karen Veit\, Ron Wienberg\, Katie West\, Janet Williams
URL:https://smyrnaoperahouse.org/event/the-skys-the-limit-art-exhibition/
LOCATION:DE
ATTACH;FMTTYPE=image/png:https://smyrnaoperahouse.org/wp-content/uploads/2025/01/Rectangle-39-min.png
END:VEVENT
BEGIN:VEVENT
DTSTART;TZID=America/New_York:20251101T193000
DTEND;TZID=America/New_York:20251101T213000
DTSTAMP:20260423T192340
CREATED:20250808T160810Z
LAST-MODIFIED:20250808T160810Z
UID:864-1762025400-1762032600@smyrnaoperahouse.org
SUMMARY:All About Joel
DESCRIPTION:David Clark Presents “ALL ABOUT JOEL”: A Tribute to Billy Joel \nFrom Long Island\, NY\, comes the incredible David Clark—an esteemed veteran singer and piano player—whose tribute show\, “ALL ABOUT JOEL\,” has been captivating audiences across the country. With uncanny accuracy in both his piano playing and lead vocals\, David brings the music and energy of Billy Joel to life in a way that will leave you mesmerized. His show is not just a tribute\, but a celebration of the Piano Man’s legendary sound\, complete with a stage presence and charisma that mirrors Joel himself. \nA lifelong admirer of Billy Joel\, David’s journey began at the age of six when he first picked up the piano. But it was at age 10\, when The Stranger album was released\, that his life was truly transformed. This iconic album ignited his passion and set him on a path to becoming a fixture in the Long Island and New York music scene. Since 1985\, David has been performing throughout the Northeastern Tri-State area\, earning a solid reputation as a skilled piano player\, talented vocalist\, and engaging performer at both private events and large concerts. \nOver the years\, David’s love for Joel’s music has grown stronger\, and it was only natural that he would eventually craft a tribute show to honor his childhood hero. His performances are filled with stunning renditions of Joel’s timeless hits\, and he connects with audiences not only through his musical skill but also through his wit and humor—just like Billy Joel himself. \nDavid has had the rare privilege of performing alongside former members of Billy Joel’s legendary recording and touring bands. In 2013\, he took part in the reunion show “LONG\, LONG TIME\,” which recreated the historic 1972 WMMR Philadelphia Sigma radio concert\, featuring bassist Larry Russell\, drummer Rhys Clark\, and guitarist Don Evans. Additionally\, in 2014\, David performed as the lead singer and piano player at the Long Island Music Hall of Fame induction of the Lords of 52nd Street\, the band that played alongside Billy Joel for decades. David toured as their lead vocalist from 2014 to 2020\, sharing the stage with saxophonist Richie Cannata\, guitarist Russell Javors\, and drummer Liberty DeVitto. \nToday\, David continues to bring the magic of Billy Joel’s music to life through “ALL ABOUT JOEL\,” a tribute that has become a must-see for fans of the Piano Man. When he’s not on stage\, David lives in New Jersey with his wife\, Smooth Jazz trumpet sensation Cindy Bradley\, and their five dogs. \n\n﻿ \n\nTickets \n$45 VIP | $37 Balcony | $30 General Admission \nDoors open 6:45pm \n*Does not include convenience or handling fees* \nNo refunds or exchanges \n    \n        \n            Buy Tickets
URL:https://smyrnaoperahouse.org/event/all-about-joel/
LOCATION:The B. Stimson Carrow Auditorium\, The Smyrna Opera House\, Smyrna\, DE\, 19977\, United States
ATTACH;FMTTYPE=image/jpeg:https://smyrnaoperahouse.org/wp-content/uploads/2025/08/maxresdefault.jpg
END:VEVENT
BEGIN:VEVENT
DTSTART;TZID=America/New_York:20251108T193000
DTEND;TZID=America/New_York:20251108T213000
DTSTAMP:20260423T192340
CREATED:20250808T163022Z
LAST-MODIFIED:20250815T135122Z
UID:869-1762630200-1762637400@smyrnaoperahouse.org
SUMMARY:Earth\, Wind\, and Fire Tribute Band
DESCRIPTION:The Earth\, Wind & Fire Tribute Band share a great love and appreciation for the style and musicianship of the premier band of the 70’s\, 80’s and 90’s\, Earth\, Wind and Fire. The Earth\, Wind & Fire Tribute Band is based in Maryland and tours up and down the East Coast. The band pays homage to one of the greatest bands of its era\, bringing to life the magical R&B\, funk and Jazz sounds that continues to inspire and influence even the contemporary entertainers of today. \nFrom the funky and “earthy” grooves\, to the sophisticated and complex lyrics and orchestrations\, the Earth\, Wind & Fire Tribute Band will continue to keep the music alive so that everyone will know that the elements…Earth\, Wind and Fire\, will love on forever! They perform all of the hits\, including: Got To Get You Into My Live\, Sing a Song\, Shining Star\, Boogie Wonderland\, Let’s Groove\, That’s The Way of the World\, September\, and many others. They will have the audience on their feet\, clapping and singing along to all the iconic hits. \n\n﻿﻿﻿ \n\nTickets \n$45 VIP | $37 Balcony | $30 General Admission \nDoors open 6:45pm \n*Does not include convenience or handling fees* \nNo refunds or exchanges \n    \n        \n            Buy Tickets
URL:https://smyrnaoperahouse.org/event/earth-wind-and-fire-tribute-band/
LOCATION:The B. Stimson Carrow Auditorium\, The Smyrna Opera House\, Smyrna\, DE\, 19977\, United States
ATTACH;FMTTYPE=image/jpeg:https://smyrnaoperahouse.org/wp-content/uploads/2025/08/EWF-1920x1080-1.jpg
END:VEVENT
BEGIN:VEVENT
DTSTART;TZID=America/New_York:20251114T190000
DTEND;TZID=America/New_York:20251114T210000
DTSTAMP:20260423T192340
CREATED:20250815T173348Z
LAST-MODIFIED:20250815T173913Z
UID:877-1763146800-1763154000@smyrnaoperahouse.org
SUMMARY:Ultimate Diamond
DESCRIPTION:“Ultimate Diamond” is a high energy band based out of Delaware that pays tribute to the iconic music of Neil Diamond. The fun and interactive show reflects the band’s deep friendship and absolute joy for performing Neil’s catalog live. Lead singer and Delaware Rock n Roll Society Hall of Fame inductee\, Sol Knopf\, captures the essence of Neil’s voice with a natural\, uncanny similarity. The band is a talented mix of veterans each with decades of accomplishments in the music industry. Most importantly\, “Ultimate Diamond” shows are filled with laughter\, joyful singing and nostalgic tears…all leading to an unforgettable experience.”\n\n﻿﻿﻿﻿ \n\nTickets \n$35 VIP | $30 Balcony | $25 General Admission \nDoors open 6:15pm \n*Does not include convenience or handling fees* \nNo refunds or exchanges \n    \n        \n            Buy Tickets
URL:https://smyrnaoperahouse.org/event/ultimate-diamond/
LOCATION:The B. Stimson Carrow Auditorium\, The Smyrna Opera House\, Smyrna\, DE\, 19977\, United States
ATTACH;FMTTYPE=image/jpeg:https://smyrnaoperahouse.org/wp-content/uploads/2025/08/b953bcb5-fba5-3e27-bd76-f3043d4856fd.jpeg
END:VEVENT
BEGIN:VEVENT
DTSTART;TZID=America/New_York:20251119T113000
DTEND;TZID=America/New_York:20251119T140000
DTSTAMP:20260423T192340
CREATED:20250917T170407Z
LAST-MODIFIED:20250917T170407Z
UID:905-1763551800-1763560800@smyrnaoperahouse.org
SUMMARY:Musical Memories Café (MMC) – A Special Experience for Caregivers
DESCRIPTION:Musical Memories Café (MMC) – A Special Experience for Caregivers\nWhen you’re caring for someone you love\, there are good days and bad days. Whatever the day brings\, you should know that there is help available to you. Musical Memories Café (MMC) is a joyful and compassionate gathering where caregivers and their loved ones (care recipients) can relax\, connect\, and share meaningful moments through the power of music. Enjoy a welcoming space with live professional entertainment\, a shared meal\, and the opportunity to build a supportive community with others who understand your journey. \nMMC gathers every 3rd Wednesday\, 11:30 AM – 2:00 PM. \nRegistration for both the caregiver and care recipient is required. Secure your spot today and experience the healing magic of music together! Estimated program time is 90 minutes. \nThis program is supported by the Administration for Community Living (ACL) funds and is open to: \n✔️ Adult caregivers (18+) providing care to individuals 60+ \n✔️ Adult caregivers (18+) supporting individuals of any age with Alzheimer’s Disease or related dementias (ADRD) \nCare recipients must live in Delaware. \nEVENT DATE: November 19th\, 2025 at 11:30am (11:00am doors) \nLOCATION: Smyrna Opera House\, 7 West South St. Smyrna DE 19977 \n    \n        \n            RSVP Here
URL:https://smyrnaoperahouse.org/event/musical-memories-cafe-mmc-a-special-experience-for-caregivers-6/
LOCATION:The B. Stimson Carrow Auditorium\, The Smyrna Opera House\, Smyrna\, DE\, 19977\, United States
ATTACH;FMTTYPE=image/jpeg:https://smyrnaoperahouse.org/wp-content/uploads/2025/07/SURROUND-SOUND-EXPERIENCE-1.jpg
END:VEVENT
BEGIN:VEVENT
DTSTART;TZID=America/New_York:20251122T190000
DTEND;TZID=America/New_York:20251122T210000
DTSTAMP:20260423T192340
CREATED:20250815T175519Z
LAST-MODIFIED:20250819T152739Z
UID:882-1763838000-1763845200@smyrnaoperahouse.org
SUMMARY:SONGBIRD: The Singular Tribute to Barbra Streisand
DESCRIPTION:Karine Hannah is SONGBIRD: The Singular Tribute to Barbra Streisand—-Performing all of the hits including “The Way You Were”\, “Guilty”\, “Evergreen”\, “Don’t Rain on My Parade” and so much more… \nMontreal-born and New York-based singer\, Karine Hannah\, had the great honor of being personally invited to sing at Celine Dion’s wedding – a testament to her incredible talent. \nAfter moving to New York\, she then had the privilege to work with legendary songwriter\, Jim Steinman (“Total Eclipse of the Heart”\, “Paradise By The Dashboard Light”). Jim once said: “Karine is the best voice I’ve worked with since Céline Dion.” \nKarine’s voice hits hard. She can deliver an overpoweringly emotional ballad as well as the best in the biz\, and her on stage banter is humorous\, bawdy\, and electrifying. \nKarine’s musical palette and vocal capabilities are wide and varied\, but her passion for singing and performing the music of Barbra Streisand has been her signature and staple since childhood. \nFrom a young age\, listening to Barbra Streisand’s music and honing her vocal chops for hours with her beloved mother\, set the tone for what was to come for Karine as a recording artist and live performer. Karine is excited to sing her heart out and share “Songbird”\, and to honor the one and only legendary Barbra Streisand. \nThe Songbird show has toured throughout North America\, including recent performances at the Tilles Center for the Performing Arts\, Paramount Hudson Valley Theater\, New York City’s Joe’s Pub\, 54 Below\, City Winery\, The Greenroom 42\, Place des Art – Montreal and Theatre St. Denis. \n\n﻿﻿﻿﻿ \n\nTickets \n$40 VIP | $35 Balcony | $32 General Admission \nDoors open 6:15pm \n*Does not include convenience or handling fees* \nNo refunds or exchanges \n    \n        \n            Buy Tickets
URL:https://smyrnaoperahouse.org/event/songbird-the-singular-tribute-to-barbra-streisand/
LOCATION:The B. Stimson Carrow Auditorium\, The Smyrna Opera House\, Smyrna\, DE\, 19977\, United States
ATTACH;FMTTYPE=image/jpeg:https://smyrnaoperahouse.org/wp-content/uploads/2025/08/602447c8-dabc-332a-c760-cf2e37eee685.jpg
END:VEVENT
END:VCALENDAR