BEGIN:VCALENDAR
VERSION:2.0
PRODID:-//Smyrna Opera House - ECPv6.15.20//NONSGML v1.0//EN
CALSCALE:GREGORIAN
METHOD:PUBLISH
X-ORIGINAL-URL:https://smyrnaoperahouse.org
X-WR-CALDESC:Events for Smyrna Opera House
REFRESH-INTERVAL;VALUE=DURATION:PT1H
X-Robots-Tag:noindex
X-PUBLISHED-TTL:PT1H
BEGIN:VTIMEZONE
TZID:America/New_York
BEGIN:DAYLIGHT
TZOFFSETFROM:-0500
TZOFFSETTO:-0400
TZNAME:EDT
DTSTART:20250309T070000
END:DAYLIGHT
BEGIN:STANDARD
TZOFFSETFROM:-0400
TZOFFSETTO:-0500
TZNAME:EST
DTSTART:20251102T060000
END:STANDARD
BEGIN:DAYLIGHT
TZOFFSETFROM:-0500
TZOFFSETTO:-0400
TZNAME:EDT
DTSTART:20260308T070000
END:DAYLIGHT
BEGIN:STANDARD
TZOFFSETFROM:-0400
TZOFFSETTO:-0500
TZNAME:EST
DTSTART:20261101T060000
END:STANDARD
BEGIN:DAYLIGHT
TZOFFSETFROM:-0500
TZOFFSETTO:-0400
TZNAME:EDT
DTSTART:20270314T070000
END:DAYLIGHT
BEGIN:STANDARD
TZOFFSETFROM:-0400
TZOFFSETTO:-0500
TZNAME:EST
DTSTART:20271107T060000
END:STANDARD
END:VTIMEZONE
BEGIN:VEVENT
DTSTART;TZID=America/New_York:20260520T113000
DTEND;TZID=America/New_York:20260520T140000
DTSTAMP:20260423T061721
CREATED:20260105T163922Z
LAST-MODIFIED:20260319T183520Z
UID:1069-1779276600-1779285600@smyrnaoperahouse.org
SUMMARY:Musical Memories Café (MMC) – A Special Experience for Caregivers
DESCRIPTION:Musical Memories Café (MMC) – A Special Experience for Caregivers\nWhen you’re caring for someone you love\, there are good days and bad days. Whatever the day brings\, you should know that there is help available to you. Musical Memories Café (MMC) is a joyful and compassionate gathering where caregivers and their loved ones (care recipients) can relax\, connect\, and share meaningful moments through the power of music. Enjoy a welcoming space with live professional entertainment\, a shared meal\, and the opportunity to build a supportive community with others who understand your journey. \nMMC gathers every 3rd Wednesday\, 11:30 AM – 2:00 PM. \nRegistration for both the caregiver and care recipient is required. Secure your spot today and experience the healing magic of music together! Estimated program time is 90 minutes. \nThis program is supported by the Administration for Community Living (ACL) funds and is open to: \n✔️ Adult caregivers (18+) providing care to individuals 60+ \n✔️ Adult caregivers (18+) supporting individuals of any age with Alzheimer’s Disease or related dementias (ADRD) \nCare recipients must live in Delaware. \nEVENT DATE: May 20th\, 2026 at 11:30am (11:00am doors) \nLOCATION: Smyrna Opera House\, 7 West South St. Smyrna DE 19977 \n    \n        \n            RSVP Here
URL:https://smyrnaoperahouse.org/event/musical-memories-cafe-mmc-a-special-experience-for-caregivers-8/
LOCATION:The B. Stimson Carrow Auditorium\, The Smyrna Opera House\, Smyrna\, DE\, 19977\, United States
ATTACH;FMTTYPE=image/jpeg:https://smyrnaoperahouse.org/wp-content/uploads/2026/01/SURROUND-SOUND-EXPERIENCE-1.jpg
END:VEVENT
END:VCALENDAR