BEGIN:VCALENDAR
VERSION:2.0
PRODID:-//Smyrna Opera House - ECPv6.15.20//NONSGML v1.0//EN
CALSCALE:GREGORIAN
METHOD:PUBLISH
X-ORIGINAL-URL:https://smyrnaoperahouse.org
X-WR-CALDESC:Events for Smyrna Opera House
REFRESH-INTERVAL;VALUE=DURATION:PT1H
X-Robots-Tag:noindex
X-PUBLISHED-TTL:PT1H
BEGIN:VTIMEZONE
TZID:America/New_York
BEGIN:DAYLIGHT
TZOFFSETFROM:-0500
TZOFFSETTO:-0400
TZNAME:EDT
DTSTART:20250309T070000
END:DAYLIGHT
BEGIN:STANDARD
TZOFFSETFROM:-0400
TZOFFSETTO:-0500
TZNAME:EST
DTSTART:20251102T060000
END:STANDARD
BEGIN:DAYLIGHT
TZOFFSETFROM:-0500
TZOFFSETTO:-0400
TZNAME:EDT
DTSTART:20260308T070000
END:DAYLIGHT
BEGIN:STANDARD
TZOFFSETFROM:-0400
TZOFFSETTO:-0500
TZNAME:EST
DTSTART:20261101T060000
END:STANDARD
BEGIN:DAYLIGHT
TZOFFSETFROM:-0500
TZOFFSETTO:-0400
TZNAME:EDT
DTSTART:20270314T070000
END:DAYLIGHT
BEGIN:STANDARD
TZOFFSETFROM:-0400
TZOFFSETTO:-0500
TZNAME:EST
DTSTART:20271107T060000
END:STANDARD
END:VTIMEZONE
BEGIN:VEVENT
DTSTART;TZID=America/New_York:20260509T193000
DTEND;TZID=America/New_York:20260509T213000
DTSTAMP:20260423T061713
CREATED:20260220T181339Z
LAST-MODIFIED:20260220T191128Z
UID:1110-1778355000-1778362200@smyrnaoperahouse.org
SUMMARY:The Jersey Tenors
DESCRIPTION:The Jersey Tenors are the newest Opera/Rock Mash-up sensation\, creating an explosive blend of iconic Opera classics alongside Rock ‘N Roll greats like Queen\, Elton John\, and Bon Jovi – to name but a few.\nBut! We are also Jersey Proud — and we do not forget where we came from\, so we highlight some of Jersey’s finest like Frankie Valli and The Four Seasons\, Frank Sinatra\, Bruce Springsteen\, Kool and The Gang\, and even Jersey Girl Whitney Houston!\nWhether it’s a theatrical production\, corporate entertainment event\, private event\, party entertainment\, or an outdoor concert…these four charming wise guys will raise the roof with their powerful voices…and you’ll be singing along before yous guys know it.\n\n﻿﻿﻿﻿ \n\nTickets \n$37 VIP | $34 Balcony | $28 General Admission \nDoors open 45 minutes prior to show \n*Does not include convenience or handling fees* \nNo refunds or exchanges \n    \n        \n            Buy Tickets
URL:https://smyrnaoperahouse.org/event/the-jersey-tenors-2/
LOCATION:The B. Stimson Carrow Auditorium\, The Smyrna Opera House\, Smyrna\, DE\, 19977\, United States
ATTACH;FMTTYPE=image/jpeg:https://smyrnaoperahouse.org/wp-content/uploads/2026/02/Jersey-Tenors.jpeg
END:VEVENT
END:VCALENDAR