BEGIN:VCALENDAR
VERSION:2.0
PRODID:-//Smyrna Opera House - ECPv6.15.20//NONSGML v1.0//EN
CALSCALE:GREGORIAN
METHOD:PUBLISH
X-WR-CALNAME:Smyrna Opera House
X-ORIGINAL-URL:https://smyrnaoperahouse.org
X-WR-CALDESC:Events for Smyrna Opera House
REFRESH-INTERVAL;VALUE=DURATION:PT1H
X-Robots-Tag:noindex
X-PUBLISHED-TTL:PT1H
BEGIN:VTIMEZONE
TZID:America/New_York
BEGIN:DAYLIGHT
TZOFFSETFROM:-0500
TZOFFSETTO:-0400
TZNAME:EDT
DTSTART:20250309T070000
END:DAYLIGHT
BEGIN:STANDARD
TZOFFSETFROM:-0400
TZOFFSETTO:-0500
TZNAME:EST
DTSTART:20251102T060000
END:STANDARD
BEGIN:DAYLIGHT
TZOFFSETFROM:-0500
TZOFFSETTO:-0400
TZNAME:EDT
DTSTART:20260308T070000
END:DAYLIGHT
BEGIN:STANDARD
TZOFFSETFROM:-0400
TZOFFSETTO:-0500
TZNAME:EST
DTSTART:20261101T060000
END:STANDARD
BEGIN:DAYLIGHT
TZOFFSETFROM:-0500
TZOFFSETTO:-0400
TZNAME:EDT
DTSTART:20270314T070000
END:DAYLIGHT
BEGIN:STANDARD
TZOFFSETFROM:-0400
TZOFFSETTO:-0500
TZNAME:EST
DTSTART:20271107T060000
END:STANDARD
END:VTIMEZONE
BEGIN:VEVENT
DTSTART;TZID=America/New_York:20260502T130000
DTEND;TZID=America/New_York:20260502T150000
DTSTAMP:20260423T044859
CREATED:20260220T184946Z
LAST-MODIFIED:20260220T191114Z
UID:1133-1777726800-1777734000@smyrnaoperahouse.org
SUMMARY:Readings and Luncheon with Jane Austen
DESCRIPTION:Celebrating the 250th birthday of Jane Austen\, The Smyrna Opera House will host Readings and Luncheon with Jane Austen. Luncheon guests will listen to readings from four of Jane Austen’s works and hear live piano music the author might have chosen to play herself. The event will commemorate the 250th Anniversary of the author’s birth.\n\nPlaywright Carol Child is the author of books\, newspaper and magazine stories and a Substack publication.  Her book\, Jane Austen Readings for Readers Theater is available on Amazon.\n\nGuests are invited to arrive in Regency era dress\, if they wish. Table reservations may be made for groups with 6-8 individuals. Please call the box office to reserve a table.\n\n\n\nTickets \n$30 General Admission \nDoors open 45 minutes prior to show \n*Does not include convenience or handling fees* \nNo refunds or exchanges \n    \n        \n            Buy Tickets
URL:https://smyrnaoperahouse.org/event/readings-and-luncheon-with-jane-austen/
LOCATION:The B. Stimson Carrow Auditorium\, The Smyrna Opera House\, Smyrna\, DE\, 19977\, United States
ATTACH;FMTTYPE=image/jpeg:https://smyrnaoperahouse.org/wp-content/uploads/2026/02/SOH-Facebook-Posts-32.jpg
END:VEVENT
END:VCALENDAR