BEGIN:VCALENDAR
VERSION:2.0
PRODID:-//Smyrna Opera House - ECPv6.15.20//NONSGML v1.0//EN
CALSCALE:GREGORIAN
METHOD:PUBLISH
X-WR-CALNAME:Smyrna Opera House
X-ORIGINAL-URL:https://smyrnaoperahouse.org
X-WR-CALDESC:Events for Smyrna Opera House
REFRESH-INTERVAL;VALUE=DURATION:PT1H
X-Robots-Tag:noindex
X-PUBLISHED-TTL:PT1H
BEGIN:VTIMEZONE
TZID:America/New_York
BEGIN:DAYLIGHT
TZOFFSETFROM:-0500
TZOFFSETTO:-0400
TZNAME:EDT
DTSTART:20250309T070000
END:DAYLIGHT
BEGIN:STANDARD
TZOFFSETFROM:-0400
TZOFFSETTO:-0500
TZNAME:EST
DTSTART:20251102T060000
END:STANDARD
BEGIN:DAYLIGHT
TZOFFSETFROM:-0500
TZOFFSETTO:-0400
TZNAME:EDT
DTSTART:20260308T070000
END:DAYLIGHT
BEGIN:STANDARD
TZOFFSETFROM:-0400
TZOFFSETTO:-0500
TZNAME:EST
DTSTART:20261101T060000
END:STANDARD
BEGIN:DAYLIGHT
TZOFFSETFROM:-0500
TZOFFSETTO:-0400
TZNAME:EDT
DTSTART:20270314T070000
END:DAYLIGHT
BEGIN:STANDARD
TZOFFSETFROM:-0400
TZOFFSETTO:-0500
TZNAME:EST
DTSTART:20271107T060000
END:STANDARD
END:VTIMEZONE
BEGIN:VEVENT
DTSTART;TZID=America/New_York:20260418T173000
DTEND;TZID=America/New_York:20260418T213000
DTSTAMP:20260423T061358
CREATED:20260220T180114Z
LAST-MODIFIED:20260227T160925Z
UID:1103-1776533400-1776547800@smyrnaoperahouse.org
SUMMARY:Refining The Rhythm - Fundraising Gala
DESCRIPTION:Focusing on the refinement of our historic building through the rhythm of the night. The Smyrna Opera House holds its “Refining The Rhythm” fundraising event to help expand our building and focus on the arts. All proceeds for the event go towards the building expansion in what was previously the Smyrna Library. This expansion will not only give the Smyrna Opera House more space\, but it will also allow for the opening of ‘The Delaware Entertainment Hall of Fame‘. This will be a space dedicated to honoring local entertainers and the impact they make on our state.\n\nVIP ticket holders are invited to join us at 5:30pm for a unforgettable party alongside a riveting performance. Prior to a performance by the ‘Epic Soul Band’ at 7:30pm\, guests can experience a pre-show cocktail party we like to call the “Taste of Smyrna and Beyond”. Many of the best Delaware based caterers will provide heavy hors d’oeuvres for VIP guests to enjoy. Alongside the food\, there will be a live auction and round table seating in our theater for your enjoyment.\n\nBalcony Show ticket holders are invited to join us at 7:30pm for a performance by the “Epic Soul Band”. Epic Soul has been providing the best in private\, corporate and concert entertainment since 2009. This dedicated group\, featuring members of the Chops Horns\, sing the greatest Motown\, R&B\, Rock\, and Pop hits! Offering a truly unique and sophisticated entertainment experience. Balcony seating is general admission.\n\n﻿﻿﻿﻿ \n\nTickets \n$60 VIP | $35 Balcony \n5:30pm entrance for VIP \n7:30 entrance for balcony \n*Does not include convenience or handling fees* \nNo refunds or exchanges \n    \n        \n            Buy Tickets
URL:https://smyrnaoperahouse.org/event/refining-the-rhythm-fundraising-gala/
LOCATION:The B. Stimson Carrow Auditorium\, The Smyrna Opera House\, Smyrna\, DE\, 19977\, United States
ATTACH;FMTTYPE=image/jpeg:https://smyrnaoperahouse.org/wp-content/uploads/2026/02/SOH-Facebook-Posts-33.jpg
END:VEVENT
END:VCALENDAR