BEGIN:VCALENDAR
VERSION:2.0
PRODID:-//Smyrna Opera House - ECPv6.15.20//NONSGML v1.0//EN
CALSCALE:GREGORIAN
METHOD:PUBLISH
X-WR-CALNAME:Smyrna Opera House
X-ORIGINAL-URL:https://smyrnaoperahouse.org
X-WR-CALDESC:Events for Smyrna Opera House
REFRESH-INTERVAL;VALUE=DURATION:PT1H
X-Robots-Tag:noindex
X-PUBLISHED-TTL:PT1H
BEGIN:VTIMEZONE
TZID:America/New_York
BEGIN:DAYLIGHT
TZOFFSETFROM:-0500
TZOFFSETTO:-0400
TZNAME:EDT
DTSTART:20250309T070000
END:DAYLIGHT
BEGIN:STANDARD
TZOFFSETFROM:-0400
TZOFFSETTO:-0500
TZNAME:EST
DTSTART:20251102T060000
END:STANDARD
BEGIN:DAYLIGHT
TZOFFSETFROM:-0500
TZOFFSETTO:-0400
TZNAME:EDT
DTSTART:20260308T070000
END:DAYLIGHT
BEGIN:STANDARD
TZOFFSETFROM:-0400
TZOFFSETTO:-0500
TZNAME:EST
DTSTART:20261101T060000
END:STANDARD
BEGIN:DAYLIGHT
TZOFFSETFROM:-0500
TZOFFSETTO:-0400
TZNAME:EDT
DTSTART:20270314T070000
END:DAYLIGHT
BEGIN:STANDARD
TZOFFSETFROM:-0400
TZOFFSETTO:-0500
TZNAME:EST
DTSTART:20271107T060000
END:STANDARD
END:VTIMEZONE
BEGIN:VEVENT
DTSTART;TZID=America/New_York:20260321T150000
DTEND;TZID=America/New_York:20260321T170000
DTSTAMP:20260423T074129
CREATED:20250923T185110Z
LAST-MODIFIED:20250923T185110Z
UID:923-1774105200-1774112400@smyrnaoperahouse.org
SUMMARY:Yacht Rock Gold
DESCRIPTION: One of the most commercially successful musical genres of all time\, Yacht Rock has built a loyal and unwavering fan base who are today’s prime ticket buying audience. Yacht Rock Gold brings all your favorite hits from the late 1970’s-early 1980’s to new generations of music fans. Celebrating the smooth sounds of the Doobie Brothers\, Fleetwood Mac\, Steely Dan\, Christopher Cross\, Kenny Loggins\, Little River Band\, Ambrosia\, Boz Scaggs and so many more\, Yacht Rock Gold engages fans with amazing harmonies and musicianship that brings audiences back to a time when music made you feel good and soothed the soul.\n\nAn evening with Yacht Rock Gold satisfies audiences craving hit song after hit\, great visuals and a note for note performance. Yacht Rock Gold is the Yacht Rock tribute you’ve been looking for and they are ready to bring the Yacht Party to YOU! Put on your captain’s hat and let’s party “All Night Long.”\n\nYacht Rock Gold\, features four lead singers\, delivering incredible harmonies\, accompanied by a six piece rhythm section with dancing horns that bring audiences to their feet\, show after show.\n﻿﻿﻿﻿ \n\nTickets \n$43 VIP | $40 Balcony | $35 General Admission \nDoors open 2:15pm \n*Does not include convenience or handling fees* \nNo refunds or exchanges \n    \n        \n            Click Here        \n    \n    Buy Tickets[/
URL:https://smyrnaoperahouse.org/event/yacht-rock-gold-2/
LOCATION:The B. Stimson Carrow Auditorium\, The Smyrna Opera House\, Smyrna\, DE\, 19977\, United States
ATTACH;FMTTYPE=image/jpeg:https://smyrnaoperahouse.org/wp-content/uploads/2025/09/yacht-rock.jpg
END:VEVENT
BEGIN:VEVENT
DTSTART;TZID=America/New_York:20260321T193000
DTEND;TZID=America/New_York:20260321T213000
DTSTAMP:20260423T074129
CREATED:20250923T185257Z
LAST-MODIFIED:20250923T185257Z
UID:926-1774121400-1774128600@smyrnaoperahouse.org
SUMMARY:Yacht Rock Gold
DESCRIPTION:One of the most commercially successful musical genres of all time\, Yacht Rock has built a loyal and unwavering fan base who are today’s prime ticket buying audience. Yacht Rock Gold brings all your favorite hits from the late 1970’s-early 1980’s to new generations of music fans. Celebrating the smooth sounds of the Doobie Brothers\, Fleetwood Mac\, Steely Dan\, Christopher Cross\, Kenny Loggins\, Little River Band\, Ambrosia\, Boz Scaggs and so many more\, Yacht Rock Gold engages fans with amazing harmonies and musicianship that brings audiences back to a time when music made you feel good and soothed the soul.\n\nAn evening with Yacht Rock Gold satisfies audiences craving hit song after hit\, great visuals and a note for note performance. Yacht Rock Gold is the Yacht Rock tribute you’ve been looking for and they are ready to bring the Yacht Party to YOU! Put on your captain’s hat and let’s party “All Night Long.”\n\nYacht Rock Gold\, features four lead singers\, delivering incredible harmonies\, accompanied by a six piece rhythm section with dancing horns that bring audiences to their feet\, show after show.\n﻿﻿﻿﻿ \n\nTickets \n$43 VIP | $40 Balcony | $35 General Admission \nDoors open 6:45pm \n*Does not include convenience or handling fees* \nNo refunds or exchanges \n    \n        \n            Click Here        \n    \n    Buy Tickets[/
URL:https://smyrnaoperahouse.org/event/yacht-rock-gold-3/
LOCATION:The B. Stimson Carrow Auditorium\, The Smyrna Opera House\, Smyrna\, DE\, 19977\, United States
ATTACH;FMTTYPE=image/jpeg:https://smyrnaoperahouse.org/wp-content/uploads/2025/09/yacht-rock.jpg
END:VEVENT
END:VCALENDAR