BEGIN:VCALENDAR
VERSION:2.0
PRODID:-//Smyrna Opera House - ECPv6.15.20//NONSGML v1.0//EN
CALSCALE:GREGORIAN
METHOD:PUBLISH
X-ORIGINAL-URL:https://smyrnaoperahouse.org
X-WR-CALDESC:Events for Smyrna Opera House
REFRESH-INTERVAL;VALUE=DURATION:PT1H
X-Robots-Tag:noindex
X-PUBLISHED-TTL:PT1H
BEGIN:VTIMEZONE
TZID:America/New_York
BEGIN:DAYLIGHT
TZOFFSETFROM:-0500
TZOFFSETTO:-0400
TZNAME:EDT
DTSTART:20250309T070000
END:DAYLIGHT
BEGIN:STANDARD
TZOFFSETFROM:-0400
TZOFFSETTO:-0500
TZNAME:EST
DTSTART:20251102T060000
END:STANDARD
BEGIN:DAYLIGHT
TZOFFSETFROM:-0500
TZOFFSETTO:-0400
TZNAME:EDT
DTSTART:20260308T070000
END:DAYLIGHT
BEGIN:STANDARD
TZOFFSETFROM:-0400
TZOFFSETTO:-0500
TZNAME:EST
DTSTART:20261101T060000
END:STANDARD
BEGIN:DAYLIGHT
TZOFFSETFROM:-0500
TZOFFSETTO:-0400
TZNAME:EDT
DTSTART:20270314T070000
END:DAYLIGHT
BEGIN:STANDARD
TZOFFSETFROM:-0400
TZOFFSETTO:-0500
TZNAME:EST
DTSTART:20271107T060000
END:STANDARD
END:VTIMEZONE
BEGIN:VEVENT
DTSTART;TZID=America/New_York:20260314T193000
DTEND;TZID=America/New_York:20260314T213000
DTSTAMP:20260423T074438
CREATED:20251219T193147Z
LAST-MODIFIED:20251223T163507Z
UID:1056-1773516600-1773523800@smyrnaoperahouse.org
SUMMARY:Let's Get It On
DESCRIPTION:“Let’s Get It On” is a celebration concert featuring the music of the late great Marvin Gaye and other Motown artists. The act features the Grammy award winning songwriter and artist “Jackie’s Boy”.\nThe Show is amazing\, playing all the colossal Marvin Hits and other Motown Legends …\nNo sitting down at this show\, everyone sings and dances at a “Let’s Get it On” concert.\n\n﻿﻿﻿﻿﻿ \n\nTickets \n$35 VIP | $30 Balcony | $25 General Admission \nDoors open 6:45pm \n*Does not include convenience or handling fees* \nNo refunds or exchanges \n    \n        \n            Buy Tickets
URL:https://smyrnaoperahouse.org/event/lets-get-it-on-2/
LOCATION:The B. Stimson Carrow Auditorium\, The Smyrna Opera House\, Smyrna\, DE\, 19977\, United States
ATTACH;FMTTYPE=image/webp:https://smyrnaoperahouse.org/wp-content/uploads/2025/12/DSC_9459.webp
END:VEVENT
END:VCALENDAR