BEGIN:VCALENDAR
VERSION:2.0
PRODID:-//Smyrna Opera House - ECPv6.15.20//NONSGML v1.0//EN
CALSCALE:GREGORIAN
METHOD:PUBLISH
X-ORIGINAL-URL:https://smyrnaoperahouse.org
X-WR-CALDESC:Events for Smyrna Opera House
REFRESH-INTERVAL;VALUE=DURATION:PT1H
X-Robots-Tag:noindex
X-PUBLISHED-TTL:PT1H
BEGIN:VTIMEZONE
TZID:America/New_York
BEGIN:DAYLIGHT
TZOFFSETFROM:-0500
TZOFFSETTO:-0400
TZNAME:EDT
DTSTART:20250309T070000
END:DAYLIGHT
BEGIN:STANDARD
TZOFFSETFROM:-0400
TZOFFSETTO:-0500
TZNAME:EST
DTSTART:20251102T060000
END:STANDARD
BEGIN:DAYLIGHT
TZOFFSETFROM:-0500
TZOFFSETTO:-0400
TZNAME:EDT
DTSTART:20260308T070000
END:DAYLIGHT
BEGIN:STANDARD
TZOFFSETFROM:-0400
TZOFFSETTO:-0500
TZNAME:EST
DTSTART:20261101T060000
END:STANDARD
BEGIN:DAYLIGHT
TZOFFSETFROM:-0500
TZOFFSETTO:-0400
TZNAME:EDT
DTSTART:20270314T070000
END:DAYLIGHT
BEGIN:STANDARD
TZOFFSETFROM:-0400
TZOFFSETTO:-0500
TZNAME:EST
DTSTART:20271107T060000
END:STANDARD
END:VTIMEZONE
BEGIN:VEVENT
DTSTART;TZID=America/New_York:20260117T190000
DTEND;TZID=America/New_York:20260117T210000
DTSTAMP:20260423T105129
CREATED:20251209T155715Z
LAST-MODIFIED:20260106T190725Z
UID:1047-1768676400-1768683600@smyrnaoperahouse.org
SUMMARY:The Luvable Idiots
DESCRIPTION:The Luvable Idiots are a six-piece Baltimore-based outfit who bring unbridled passion for music. Founded during the COVID Pandemic by tight-knit high school friends\, The Luvable Idiots have rocketed from open-mic nights to some of the hottest stages in Baltimore in under one year. \nSearing guitar solos\, ever-grooving drum and bass lines\, and unique vocal harmonies have pushed The Luvable Idiots into the spotlight at the 8×10 and the Recher Theater. Whether they’re putting their spin on classics or showcasing original songs\, the group gets people on their feet and singing along. \nNo refunds or exchanges permitted.\n\n﻿﻿﻿﻿ \n\nTickets \n$10 General Admission \nDoors open 6:15pm \n*Does not include convenience or handling fees* \nNo refunds or exchanges \n    \n        \n            Buy Tickets
URL:https://smyrnaoperahouse.org/event/the-luvable-idiots/
LOCATION:The B. Stimson Carrow Auditorium\, The Smyrna Opera House\, Smyrna\, DE\, 19977\, United States
ATTACH;FMTTYPE=image/jpeg:https://smyrnaoperahouse.org/wp-content/uploads/2025/12/SOH-Facebook-Posts.jpg
END:VEVENT
END:VCALENDAR