BEGIN:VCALENDAR
VERSION:2.0
PRODID:-//Smyrna Opera House - ECPv6.15.20//NONSGML v1.0//EN
CALSCALE:GREGORIAN
METHOD:PUBLISH
X-WR-CALNAME:Smyrna Opera House
X-ORIGINAL-URL:https://smyrnaoperahouse.org
X-WR-CALDESC:Events for Smyrna Opera House
REFRESH-INTERVAL;VALUE=DURATION:PT1H
X-Robots-Tag:noindex
X-PUBLISHED-TTL:PT1H
BEGIN:VTIMEZONE
TZID:America/New_York
BEGIN:DAYLIGHT
TZOFFSETFROM:-0500
TZOFFSETTO:-0400
TZNAME:EDT
DTSTART:20250309T070000
END:DAYLIGHT
BEGIN:STANDARD
TZOFFSETFROM:-0400
TZOFFSETTO:-0500
TZNAME:EST
DTSTART:20251102T060000
END:STANDARD
BEGIN:DAYLIGHT
TZOFFSETFROM:-0500
TZOFFSETTO:-0400
TZNAME:EDT
DTSTART:20260308T070000
END:DAYLIGHT
BEGIN:STANDARD
TZOFFSETFROM:-0400
TZOFFSETTO:-0500
TZNAME:EST
DTSTART:20261101T060000
END:STANDARD
BEGIN:DAYLIGHT
TZOFFSETFROM:-0500
TZOFFSETTO:-0400
TZNAME:EDT
DTSTART:20270314T070000
END:DAYLIGHT
BEGIN:STANDARD
TZOFFSETFROM:-0400
TZOFFSETTO:-0500
TZNAME:EST
DTSTART:20271107T060000
END:STANDARD
END:VTIMEZONE
BEGIN:VEVENT
DTSTART;TZID=America/New_York:20260110T193000
DTEND;TZID=America/New_York:20260110T213000
DTSTAMP:20260423T105903
CREATED:20250715T173006Z
LAST-MODIFIED:20251008T150508Z
UID:835-1768073400-1768080600@smyrnaoperahouse.org
SUMMARY:80's Revolution
DESCRIPTION:Haven’t you heard?!?!? \n\n\nThere’s a new band in town and they’re totally rad!!! 80’s Revolution is the #1 party show band in America! Don’t believe us? Come see for yourself! \n\n\nWe are here to Turn Back Time to an era filled with bright neon colors\, innovative and memorable fashion\, and iconic movie classics. But most of all – the best music in history. \n\n\nThis decade is known for mastering all genres. From Pop to Rock\, Dance to New Wave\, 80’s Revolution covers all of your favorites: Madonna\, Journey\, Michael Jackson\, Pat Benatar\, Def Leppard\, The Go-Go’s\, Whitney Houston\, Bon Jovi\, Cher – and so many more! \n\nThis band features New Jersey’s top musicians: Brian w. Silver\, Kat Viksne\, Eric Heiss and Max Bolton. They bring their exceptional musical talents to the stage every performance. The vocal talents of Gloria Carpenter\, Chelsey Alyse\, and Katie Joel make the perfect trifecta of leading ladies. With the support of Laura Turk and Gianna Hodes this group is totally tubular!\nNo refunds or exchanges permitted.\n\n﻿ \n\nTickets \n$27 VIP | $24 Balcony | $20 General Admission \nDoors open 6:45pm \n*Does not include convenience or handling fees* \nNo refunds or exchanges \n    \n        \n            Buy Tickets
URL:https://smyrnaoperahouse.org/event/80s-revolution/
LOCATION:The B. Stimson Carrow Auditorium\, The Smyrna Opera House\, Smyrna\, DE\, 19977\, United States
ATTACH;FMTTYPE=image/jpeg:https://smyrnaoperahouse.org/wp-content/uploads/2025/07/80srev.jpg
END:VEVENT
END:VCALENDAR