BEGIN:VCALENDAR
VERSION:2.0
PRODID:-//Smyrna Opera House - ECPv6.15.20//NONSGML v1.0//EN
CALSCALE:GREGORIAN
METHOD:PUBLISH
X-WR-CALNAME:Smyrna Opera House
X-ORIGINAL-URL:https://smyrnaoperahouse.org
X-WR-CALDESC:Events for Smyrna Opera House
REFRESH-INTERVAL;VALUE=DURATION:PT1H
X-Robots-Tag:noindex
X-PUBLISHED-TTL:PT1H
BEGIN:VTIMEZONE
TZID:America/New_York
BEGIN:DAYLIGHT
TZOFFSETFROM:-0500
TZOFFSETTO:-0400
TZNAME:EDT
DTSTART:20240310T070000
END:DAYLIGHT
BEGIN:STANDARD
TZOFFSETFROM:-0400
TZOFFSETTO:-0500
TZNAME:EST
DTSTART:20241103T060000
END:STANDARD
BEGIN:DAYLIGHT
TZOFFSETFROM:-0500
TZOFFSETTO:-0400
TZNAME:EDT
DTSTART:20250309T070000
END:DAYLIGHT
BEGIN:STANDARD
TZOFFSETFROM:-0400
TZOFFSETTO:-0500
TZNAME:EST
DTSTART:20251102T060000
END:STANDARD
BEGIN:DAYLIGHT
TZOFFSETFROM:-0500
TZOFFSETTO:-0400
TZNAME:EDT
DTSTART:20260308T070000
END:DAYLIGHT
BEGIN:STANDARD
TZOFFSETFROM:-0400
TZOFFSETTO:-0500
TZNAME:EST
DTSTART:20261101T060000
END:STANDARD
END:VTIMEZONE
BEGIN:VEVENT
DTSTART;TZID=America/New_York:20251214T140000
DTEND;TZID=America/New_York:20251214T160000
DTSTAMP:20260425T072641
CREATED:20251009T185928Z
LAST-MODIFIED:20251204T192604Z
UID:959-1765720800-1765728000@smyrnaoperahouse.org
SUMMARY:Holiday Spectacular
DESCRIPTION:The Smyrna Opera House presents an original cabaret experience filled with everyone’s favorite holiday tunes. Experience a journey to finding the magic of Christmas everywhere you turn. Hear songs like “Holly Jolly Christmas”\, “You’re a Mean One Mr. Grinch”\, “Silent Night”\, “I Want a Hippopotamus For Christmas”\, and all the classics! Filled with surprise characters\, snowy spectacles\, and meaningful stories… this is a holly-jolly show for everyone!\n\nDirector: Lennon Heitz\nMusic Director: Jessica Cantillon\nChoreographer: Madalynn Martino\nStage Manager: Emma Patricco \n\n\n\nCast\nKyra Kimbrough\nLondon Young\nAnnistyn Noll\nRowan Noll\nKelly Poss\nValorie Hailey\nLena Romero\nAnya Kay\nQourtney Ringgold\nMelissa Mann\nWesley Mann\nPiper Brink\nBisma Mahmood\nStephen Hailey\n\n﻿﻿﻿﻿ \nTickets \n$20 General | $17 Member | $12 Child \nShow doors open 1:15pm \n*Does not include convenience or handling fees* \nNo refunds or exchanges \n    \n        \n            Buy Tickets
URL:https://smyrnaoperahouse.org/event/holiday-spectacular-4/
LOCATION:The B. Stimson Carrow Auditorium\, The Smyrna Opera House\, Smyrna\, DE\, 19977\, United States
ATTACH;FMTTYPE=image/jpeg:https://smyrnaoperahouse.org/wp-content/uploads/2025/10/Holiday-Auditions.jpg
END:VEVENT
END:VCALENDAR