BEGIN:VCALENDAR
VERSION:2.0
PRODID:-//Smyrna Opera House - ECPv6.15.20//NONSGML v1.0//EN
CALSCALE:GREGORIAN
METHOD:PUBLISH
X-ORIGINAL-URL:https://smyrnaoperahouse.org
X-WR-CALDESC:Events for Smyrna Opera House
REFRESH-INTERVAL;VALUE=DURATION:PT1H
X-Robots-Tag:noindex
X-PUBLISHED-TTL:PT1H
BEGIN:VTIMEZONE
TZID:America/New_York
BEGIN:DAYLIGHT
TZOFFSETFROM:-0500
TZOFFSETTO:-0400
TZNAME:EDT
DTSTART:20240310T070000
END:DAYLIGHT
BEGIN:STANDARD
TZOFFSETFROM:-0400
TZOFFSETTO:-0500
TZNAME:EST
DTSTART:20241103T060000
END:STANDARD
BEGIN:DAYLIGHT
TZOFFSETFROM:-0500
TZOFFSETTO:-0400
TZNAME:EDT
DTSTART:20250309T070000
END:DAYLIGHT
BEGIN:STANDARD
TZOFFSETFROM:-0400
TZOFFSETTO:-0500
TZNAME:EST
DTSTART:20251102T060000
END:STANDARD
BEGIN:DAYLIGHT
TZOFFSETFROM:-0500
TZOFFSETTO:-0400
TZNAME:EDT
DTSTART:20260308T070000
END:DAYLIGHT
BEGIN:STANDARD
TZOFFSETFROM:-0400
TZOFFSETTO:-0500
TZNAME:EST
DTSTART:20261101T060000
END:STANDARD
END:VTIMEZONE
BEGIN:VEVENT
DTSTART;TZID=America/New_York:20251016T100000
DTEND;TZID=America/New_York:20251114T150000
DTSTAMP:20260423T221531
CREATED:20250919T160742Z
LAST-MODIFIED:20251015T150511Z
UID:911-1760608800-1763132400@smyrnaoperahouse.org
SUMMARY:"The Sky's The Limit" Art Exhibition
DESCRIPTION:The Smyrna Opera House is proud to invite local artists to showcase their work in our gallery on the third floor. Art enjoyers may see the artwork on display during business hours (Tuesday-Friday at 10am-3pm) starting October 16th- November 14th. Extended hours will take place every Thursday at 10am-7pm. \nPatrons are invited to join us on October 16th at 6pm for an opening reception. There will be a bar\, food\, musical ambience\, and artists available to speak with. This event is free to attend and the dress code is casually elegant. \nParticipating Artists \nCindy Lee Beyer\, Brittany M. Coleman\, Davina Manasseh-Colston\, Denise Van Deroef\, Shilpi Gupta\, T. A. Hahn\, David Hollander\, Sharon O’Brien-Huey\, Janice Edelman-Lee\, Larry Lee\, Donna Lewis\, Christopher M. Kraus\, Joyce Elaine Lapp\, Dave Magyar\, Tracey L. Nadal\, Rosetta Roach\, Maria Ruffin\, Rob Sample\, Karen Veit\, Ron Wienberg\, Katie West\, Janet Williams
URL:https://smyrnaoperahouse.org/event/the-skys-the-limit-art-exhibition/
LOCATION:DE
ATTACH;FMTTYPE=image/png:https://smyrnaoperahouse.org/wp-content/uploads/2025/01/Rectangle-39-min.png
END:VEVENT
BEGIN:VEVENT
DTSTART;TZID=America/New_York:20251101T193000
DTEND;TZID=America/New_York:20251101T213000
DTSTAMP:20260423T221531
CREATED:20250808T160810Z
LAST-MODIFIED:20250808T160810Z
UID:864-1762025400-1762032600@smyrnaoperahouse.org
SUMMARY:All About Joel
DESCRIPTION:David Clark Presents “ALL ABOUT JOEL”: A Tribute to Billy Joel \nFrom Long Island\, NY\, comes the incredible David Clark—an esteemed veteran singer and piano player—whose tribute show\, “ALL ABOUT JOEL\,” has been captivating audiences across the country. With uncanny accuracy in both his piano playing and lead vocals\, David brings the music and energy of Billy Joel to life in a way that will leave you mesmerized. His show is not just a tribute\, but a celebration of the Piano Man’s legendary sound\, complete with a stage presence and charisma that mirrors Joel himself. \nA lifelong admirer of Billy Joel\, David’s journey began at the age of six when he first picked up the piano. But it was at age 10\, when The Stranger album was released\, that his life was truly transformed. This iconic album ignited his passion and set him on a path to becoming a fixture in the Long Island and New York music scene. Since 1985\, David has been performing throughout the Northeastern Tri-State area\, earning a solid reputation as a skilled piano player\, talented vocalist\, and engaging performer at both private events and large concerts. \nOver the years\, David’s love for Joel’s music has grown stronger\, and it was only natural that he would eventually craft a tribute show to honor his childhood hero. His performances are filled with stunning renditions of Joel’s timeless hits\, and he connects with audiences not only through his musical skill but also through his wit and humor—just like Billy Joel himself. \nDavid has had the rare privilege of performing alongside former members of Billy Joel’s legendary recording and touring bands. In 2013\, he took part in the reunion show “LONG\, LONG TIME\,” which recreated the historic 1972 WMMR Philadelphia Sigma radio concert\, featuring bassist Larry Russell\, drummer Rhys Clark\, and guitarist Don Evans. Additionally\, in 2014\, David performed as the lead singer and piano player at the Long Island Music Hall of Fame induction of the Lords of 52nd Street\, the band that played alongside Billy Joel for decades. David toured as their lead vocalist from 2014 to 2020\, sharing the stage with saxophonist Richie Cannata\, guitarist Russell Javors\, and drummer Liberty DeVitto. \nToday\, David continues to bring the magic of Billy Joel’s music to life through “ALL ABOUT JOEL\,” a tribute that has become a must-see for fans of the Piano Man. When he’s not on stage\, David lives in New Jersey with his wife\, Smooth Jazz trumpet sensation Cindy Bradley\, and their five dogs. \n\n﻿ \n\nTickets \n$45 VIP | $37 Balcony | $30 General Admission \nDoors open 6:45pm \n*Does not include convenience or handling fees* \nNo refunds or exchanges \n    \n        \n            Buy Tickets
URL:https://smyrnaoperahouse.org/event/all-about-joel/
LOCATION:The B. Stimson Carrow Auditorium\, The Smyrna Opera House\, Smyrna\, DE\, 19977\, United States
ATTACH;FMTTYPE=image/jpeg:https://smyrnaoperahouse.org/wp-content/uploads/2025/08/maxresdefault.jpg
END:VEVENT
END:VCALENDAR