BEGIN:VCALENDAR
VERSION:2.0
PRODID:-//Smyrna Opera House - ECPv6.15.20//NONSGML v1.0//EN
CALSCALE:GREGORIAN
METHOD:PUBLISH
X-ORIGINAL-URL:https://smyrnaoperahouse.org
X-WR-CALDESC:Events for Smyrna Opera House
REFRESH-INTERVAL;VALUE=DURATION:PT1H
X-Robots-Tag:noindex
X-PUBLISHED-TTL:PT1H
BEGIN:VTIMEZONE
TZID:America/New_York
BEGIN:DAYLIGHT
TZOFFSETFROM:-0500
TZOFFSETTO:-0400
TZNAME:EDT
DTSTART:20240310T070000
END:DAYLIGHT
BEGIN:STANDARD
TZOFFSETFROM:-0400
TZOFFSETTO:-0500
TZNAME:EST
DTSTART:20241103T060000
END:STANDARD
BEGIN:DAYLIGHT
TZOFFSETFROM:-0500
TZOFFSETTO:-0400
TZNAME:EDT
DTSTART:20250309T070000
END:DAYLIGHT
BEGIN:STANDARD
TZOFFSETFROM:-0400
TZOFFSETTO:-0500
TZNAME:EST
DTSTART:20251102T060000
END:STANDARD
BEGIN:DAYLIGHT
TZOFFSETFROM:-0500
TZOFFSETTO:-0400
TZNAME:EDT
DTSTART:20260308T070000
END:DAYLIGHT
BEGIN:STANDARD
TZOFFSETFROM:-0400
TZOFFSETTO:-0500
TZNAME:EST
DTSTART:20261101T060000
END:STANDARD
END:VTIMEZONE
BEGIN:VEVENT
DTSTART;TZID=America/New_York:20251004T190000
DTEND;TZID=America/New_York:20251004T210000
DTSTAMP:20260423T223032
CREATED:20250715T172612Z
LAST-MODIFIED:20250715T172612Z
UID:831-1759604400-1759611600@smyrnaoperahouse.org
SUMMARY:A Man Named Cash
DESCRIPTION:Recognized by Cash fans as one of the most honest and true representations of Johnny Cash live in concert\, join Eric as he takes you on an exciting musical journey through the music and legacy of Johnny Cash – spanning nearly 50 years of music from his earliest days at Sun Recording in the 1950’s through his final days and musical rebirth with American Recordings in the 2000’s. Eric’s astonishingly deep voice and even deeper embodiment of Cash’s character often has audiences utterly transfixed in their seats – performing classics as varied as his first 1956 Billboard #1 hit “I Walk The Line” to the 2004 Grammy Award winning ‘Hurt.’\n\nEric is joined by Megan Houde (as June Carter) who’s natural presence alone adds an essential brightness to The Man In Black. The two’s on stage chemistry (much like the real Cash and Carter) is undeniable\, at times unpredictable and genuinely charming and up lifting. The room does indeed LIGHT UP each time Megan walks on stage though out each performance – bringing with her the perfect embodiment of hope\, joy\, love and lightheartedness that Cash’s music often spoke of as what was missing in the world.\n \n\nTickets \n$37 VIP | $34 Balcony | $30 General Admission \nDoors open 6:15pm \n*Does not include convenience or handling fees* \nNo refunds or exchanges \n    \n        \n            Buy Tickets
URL:https://smyrnaoperahouse.org/event/a-man-named-cash/
LOCATION:The B. Stimson Carrow Auditorium\, The Smyrna Opera House\, Smyrna\, DE\, 19977\, United States
ATTACH;FMTTYPE=image/jpeg:https://smyrnaoperahouse.org/wp-content/uploads/2025/07/10.11.25AManNamedCash.jpg
END:VEVENT
END:VCALENDAR